BEGIN:VCALENDAR
VERSION:2.0
PRODID:-//Peggy Dettwiler - ECPv6.15.20//NONSGML v1.0//EN
CALSCALE:GREGORIAN
METHOD:PUBLISH
X-WR-CALNAME:Peggy Dettwiler
X-ORIGINAL-URL:https://peggydettwiler.com
X-WR-CALDESC:Events for Peggy Dettwiler
REFRESH-INTERVAL;VALUE=DURATION:PT1H
X-Robots-Tag:noindex
X-PUBLISHED-TTL:PT1H
BEGIN:VTIMEZONE
TZID:America/New_York
BEGIN:DAYLIGHT
TZOFFSETFROM:-0500
TZOFFSETTO:-0400
TZNAME:EDT
DTSTART:20220313T070000
END:DAYLIGHT
BEGIN:STANDARD
TZOFFSETFROM:-0400
TZOFFSETTO:-0500
TZNAME:EST
DTSTART:20221106T060000
END:STANDARD
BEGIN:DAYLIGHT
TZOFFSETFROM:-0500
TZOFFSETTO:-0400
TZNAME:EDT
DTSTART:20230312T070000
END:DAYLIGHT
BEGIN:STANDARD
TZOFFSETFROM:-0400
TZOFFSETTO:-0500
TZNAME:EST
DTSTART:20231105T060000
END:STANDARD
BEGIN:DAYLIGHT
TZOFFSETFROM:-0500
TZOFFSETTO:-0400
TZNAME:EDT
DTSTART:20240310T070000
END:DAYLIGHT
BEGIN:STANDARD
TZOFFSETFROM:-0400
TZOFFSETTO:-0500
TZNAME:EST
DTSTART:20241103T060000
END:STANDARD
END:VTIMEZONE
BEGIN:VTIMEZONE
TZID:America/Halifax
BEGIN:DAYLIGHT
TZOFFSETFROM:-0400
TZOFFSETTO:-0300
TZNAME:ADT
DTSTART:20220313T060000
END:DAYLIGHT
BEGIN:STANDARD
TZOFFSETFROM:-0300
TZOFFSETTO:-0400
TZNAME:AST
DTSTART:20221106T050000
END:STANDARD
BEGIN:DAYLIGHT
TZOFFSETFROM:-0400
TZOFFSETTO:-0300
TZNAME:ADT
DTSTART:20230312T060000
END:DAYLIGHT
BEGIN:STANDARD
TZOFFSETFROM:-0300
TZOFFSETTO:-0400
TZNAME:AST
DTSTART:20231105T050000
END:STANDARD
BEGIN:DAYLIGHT
TZOFFSETFROM:-0400
TZOFFSETTO:-0300
TZNAME:ADT
DTSTART:20240310T060000
END:DAYLIGHT
BEGIN:STANDARD
TZOFFSETFROM:-0300
TZOFFSETTO:-0400
TZNAME:AST
DTSTART:20241103T050000
END:STANDARD
END:VTIMEZONE
BEGIN:VEVENT
DTSTART;VALUE=DATE:20231109
DTEND;VALUE=DATE:20231113
DTSTAMP:20260425T154819
CREATED:20230815T171131Z
LAST-MODIFIED:20230815T171310Z
UID:842-1699488000-1699833599@peggydettwiler.com
SUMMARY:Opera Theatre: Albert Herring (Benjamin Britten)
DESCRIPTION:Thurs- Sat: 7:30 pm\nSun: 2:30 pm Matinee \nIn a small Suffolk market town Mr Gedge the Vicar\, Police Superintendent Budd\, Mr Upfold the Mayor and the local head teacher Miss Wordsworth meet at the home of Lady Billows to appoint at her behest a May Queen as an encouragement to local chastity. As they review the list of possibles\, Lady Billows’s housekeeper Florence Pike\, armed with reports of unworthy behaviour\, condemns each and every one. Eventually none is left\, and instead a May King is proposed and Albert Herring — blameless son of a widowed shopkeeper — is chosen. The group informs Albert and his mother at their shop — though the shy young man tries unsuccessfully to refuse. At the ceremony in a marquee in the vicarage garden\, butcher’s assistant Sid laces Albert’s lemonade\, so that his contribution to the occasion consists largely of hiccups and silence. Later\, back in the shop\, Albert casts envious glances at the affectionate relationship between Sid and his girlfriend Nancy and\, armed with his prize money\, sets off in search of a little adventure of his own. \nBy the following afternoon\, concern is growing at his disappearance. The police are called in. Eventually the hasty villagers decide that he must have come to a bad end\, and begin to mourn him. Up turns Albert\, however\, to face a telling off for going absent without leave and shocked reactions from his elders and betters when his carousing in public houses is revealed. Albert\, of course\, is unashamed\, and celebrates his new-found independence by inviting three local kids into the greengrocers to share some peaches\, tossing his May King’s orange blossom wreath into the audience as a final gesture. \n(Source: https://www.boosey.com/opera/moreDetails?musicID=3871)
URL:https://peggydettwiler.com/event/opera-theatre-albert-herring-benjamin-britten/
CATEGORIES:concerts
END:VEVENT
BEGIN:VEVENT
DTSTART;TZID=America/New_York:20231103T193000
DTEND;TZID=America/New_York:20231103T213000
DTSTAMP:20260425T154819
CREATED:20230815T170548Z
LAST-MODIFIED:20230815T170652Z
UID:839-1699039800-1699047000@peggydettwiler.com
SUMMARY:Mansfieldians & Concert Jazz Band Concert
DESCRIPTION:Mansfieldians & Concert Jazz Band
URL:https://peggydettwiler.com/event/mansfieldians-concert-jazz-band-concert/
LOCATION:Steadman Theater at Butler Music Center\, 18 Campus View Dr.\, Mansfield\, PA\, 16933\, United States
CATEGORIES:concerts
END:VEVENT
BEGIN:VEVENT
DTSTART;TZID=America/New_York:20231027T160000
DTEND;TZID=America/New_York:20231027T180000
DTSTAMP:20260425T154819
CREATED:20230815T170502Z
LAST-MODIFIED:20231005T023425Z
UID:837-1698422400-1698429600@peggydettwiler.com
SUMMARY:Young Men’s Choral Festival Concert with Chris Kiver and the Penn State Glee Club
DESCRIPTION:Young Men’s Choral Festival Concert with Chris Kiver and the Penn State Glee Club \nConcert in Steadman Theatre at 4 p.m.
URL:https://peggydettwiler.com/event/young-mens-choral-festival-concert-with-chris-kiver-and-the-penn-state-glee-club/
LOCATION:Steadman Theater at Butler Music Center\, 18 Campus View Dr.\, Mansfield\, PA\, 16933\, United States
CATEGORIES:concerts
ORGANIZER;CN="Peggy Dettwiler":MAILTO:pdettwil@mansfield.edu
END:VEVENT
BEGIN:VEVENT
DTSTART;TZID=America/Halifax:20230414T190000
DTEND;TZID=America/Halifax:20230414T213000
DTSTAMP:20260425T154819
CREATED:20230321T203059Z
LAST-MODIFIED:20230326T175412Z
UID:794-1681498800-1681507800@peggydettwiler.com
SUMMARY:MU Choirs on Tour: Rochester\, NY
DESCRIPTION:The Mansfield University Concert Choir under the direction of Peggy Dettwiler\, will perform concerts in PA & NY including: the First Baptist Church in Lewisburg\, PA\, on April 2 at 7:30 pm; the Third Presbyterian Church in Rochester\, NY\, on April 14 at 7 pm\, and then their final concert of the academic year in Mansfield’s Steadman Theatre on Saturday\, April 29 at 7:30 pm. \n\nDownload the Concert Program [PDF]\n\n\n\n\nThe evening’s program includes works from the Renaissance period by Peter Philips to a composition by Peter de Mets commissioned in 2022. The program will feature the ability of the choir to sing with different choral colors and with overtone singing. Works familiar to most audiences include “Will the Circle Be Unbroken” and “What a Wonderful World” made famous by Louis Armstrong. The sixteen-voice Chamber Singers will also share a couple of selections including\, “The Peace of Wild Things” which is the theme of their concert on Tuesday\, April 25 7:30 pm in Steadman Theatre.\n\n\n \nThe evenings of singing promise to offer uplifting music for these trying times. The concerts are free and open to the public with an opportunity to donate at the door.
URL:https://peggydettwiler.com/event/mu-choirs-on-tour-rochester-ny/
LOCATION:Third Presbyterian Church of Rochester NY\, 4 Meigs St\, Rochester\, NY\, 14607\, United States
CATEGORIES:concerts
ATTACH;FMTTYPE=image/jpeg:https://peggydettwiler.com/wp-content/uploads/2023/03/rochesterchurch-e1679430624122-1.jpg
END:VEVENT
BEGIN:VEVENT
DTSTART;TZID=America/Halifax:20230402T193000
DTEND;TZID=America/Halifax:20230402T210000
DTSTAMP:20260425T154819
CREATED:20230321T202114Z
LAST-MODIFIED:20230326T175328Z
UID:788-1680463800-1680469200@peggydettwiler.com
SUMMARY:MU Choirs on Tour: Lewisburg\, PA
DESCRIPTION:The Mansfield University Concert Choir under the direction of Peggy Dettwiler\, will perform concerts in PA & NY including: the First Baptist Church in Lewisburg\, PA\, on April 2 at 7:30 pm; the Third Presbyterian Church in Rochester\, NY\, on April 14 at 7 pm\, and then their final concert of the academic year in Mansfield’s Steadman Theatre on Saturday\, April 29 at 7:30 pm. \n\n\n\n\n\nDownload the Concert Program [PDF]\n\n\nThe evening’s program includes works from the Renaissance period by Peter Philips to a composition by Peter de Mets commissioned in 2022. The program will feature the ability of the choir to sing with different choral colors and with overtone singing. Works familiar to most audiences include “Will the Circle Be Unbroken” and “What a Wonderful World” made famous by Louis Armstrong. The sixteen-voice Chamber Singers will also share a couple of selections including\, “The Peace of Wild Things” which is the theme of their concert on Tuesday\, April 25 7:30 pm in Steadman Theatre.\n\n\n \nThe evenings of singing promise to offer uplifting music for these trying times. The concerts are free and open to the public with an opportunity to donate at the door.
URL:https://peggydettwiler.com/event/mu-choirs-on-tour-lewisburg-pa/
LOCATION:First Baptist Church of Lewisburg\, PA\, 51 S 3rd St\, Lewisburg\, PA\, 17837\, United States
CATEGORIES:concerts
ATTACH;FMTTYPE=image/jpeg:https://peggydettwiler.com/wp-content/uploads/2023/03/fbcl.jpg
ORGANIZER;CN="Peggy Dettwiler":MAILTO:pdettwil@mansfield.edu
END:VEVENT
END:VCALENDAR